BEGIN:VCALENDAR
VERSION:2.0
PRODID:-//Expats Latvia - ECPv6.15.20//NONSGML v1.0//EN
CALSCALE:GREGORIAN
METHOD:PUBLISH
X-WR-CALNAME:Expats Latvia
X-ORIGINAL-URL:https://expatslatvia.com
X-WR-CALDESC:Events for Expats Latvia
REFRESH-INTERVAL;VALUE=DURATION:PT1H
X-Robots-Tag:noindex
X-PUBLISHED-TTL:PT1H
BEGIN:VTIMEZONE
TZID:Europe/Riga
BEGIN:DAYLIGHT
TZOFFSETFROM:+0200
TZOFFSETTO:+0300
TZNAME:EEST
DTSTART:20250330T010000
END:DAYLIGHT
BEGIN:STANDARD
TZOFFSETFROM:+0300
TZOFFSETTO:+0200
TZNAME:EET
DTSTART:20251026T010000
END:STANDARD
BEGIN:DAYLIGHT
TZOFFSETFROM:+0200
TZOFFSETTO:+0300
TZNAME:EEST
DTSTART:20260329T010000
END:DAYLIGHT
BEGIN:STANDARD
TZOFFSETFROM:+0300
TZOFFSETTO:+0200
TZNAME:EET
DTSTART:20261025T010000
END:STANDARD
BEGIN:DAYLIGHT
TZOFFSETFROM:+0200
TZOFFSETTO:+0300
TZNAME:EEST
DTSTART:20270328T010000
END:DAYLIGHT
BEGIN:STANDARD
TZOFFSETFROM:+0300
TZOFFSETTO:+0200
TZNAME:EET
DTSTART:20271031T010000
END:STANDARD
END:VTIMEZONE
BEGIN:VEVENT
DTSTART;TZID=Europe/Riga:20260421T193000
DTEND;TZID=Europe/Riga:20260421T213000
DTSTAMP:20260421T132730
CREATED:20260414T165040Z
LAST-MODIFIED:20260414T165040Z
UID:195-1776799800-1776807000@expatslatvia.com
SUMMARY:BlaBla Language Exchange Riga
DESCRIPTION:Meet new people\, practice languages\, and connect with locals and expats in a relaxed international atmosphere. \n📅 Date & Time: (укажи дату из события)📍 Location: BEERA Bar RigaDuration: ~2–3 hours · Open to everyone \nLanguage exchange event with a mingle format — no fixed tables.English and the local language are most commonly used\, but you can also find people to practice other languages. \nPerfect for: \n\nmaking new friends\nimproving language skills\nsocializing in an international environment
URL:https://expatslatvia.com/event/blabla-language-exchange-riga/
LOCATION:BEERA Bar Riga\, Ģertrūdes iela 39\, Rīga
END:VEVENT
END:VCALENDAR