BEGIN:VCALENDAR
VERSION:2.0
PRODID:-//Expats Latvia - ECPv6.15.20//NONSGML v1.0//EN
CALSCALE:GREGORIAN
METHOD:PUBLISH
X-WR-CALNAME:Expats Latvia
X-ORIGINAL-URL:https://expatslatvia.com
X-WR-CALDESC:Events for Expats Latvia
REFRESH-INTERVAL;VALUE=DURATION:PT1H
X-Robots-Tag:noindex
X-PUBLISHED-TTL:PT1H
BEGIN:VTIMEZONE
TZID:Europe/Riga
BEGIN:DAYLIGHT
TZOFFSETFROM:+0200
TZOFFSETTO:+0300
TZNAME:EEST
DTSTART:20250330T010000
END:DAYLIGHT
BEGIN:STANDARD
TZOFFSETFROM:+0300
TZOFFSETTO:+0200
TZNAME:EET
DTSTART:20251026T010000
END:STANDARD
BEGIN:DAYLIGHT
TZOFFSETFROM:+0200
TZOFFSETTO:+0300
TZNAME:EEST
DTSTART:20260329T010000
END:DAYLIGHT
BEGIN:STANDARD
TZOFFSETFROM:+0300
TZOFFSETTO:+0200
TZNAME:EET
DTSTART:20261025T010000
END:STANDARD
BEGIN:DAYLIGHT
TZOFFSETFROM:+0200
TZOFFSETTO:+0300
TZNAME:EEST
DTSTART:20270328T010000
END:DAYLIGHT
BEGIN:STANDARD
TZOFFSETFROM:+0300
TZOFFSETTO:+0200
TZNAME:EET
DTSTART:20271031T010000
END:STANDARD
END:VTIMEZONE
BEGIN:VEVENT
DTSTART;TZID=Europe/Riga:20260421T193000
DTEND;TZID=Europe/Riga:20260421T213000
DTSTAMP:20260421T110855
CREATED:20260414T165040Z
LAST-MODIFIED:20260414T165040Z
UID:195-1776799800-1776807000@expatslatvia.com
SUMMARY:BlaBla Language Exchange Riga
DESCRIPTION:Meet new people\, practice languages\, and connect with locals and expats in a relaxed international atmosphere. \n📅 Date & Time: (укажи дату из события)📍 Location: BEERA Bar RigaDuration: ~2–3 hours · Open to everyone \nLanguage exchange event with a mingle format — no fixed tables.English and the local language are most commonly used\, but you can also find people to practice other languages. \nPerfect for: \n\nmaking new friends\nimproving language skills\nsocializing in an international environment
URL:https://expatslatvia.com/event/blabla-language-exchange-riga/
LOCATION:BEERA Bar Riga\, Ģertrūdes iela 39\, Rīga
END:VEVENT
BEGIN:VEVENT
DTSTART;TZID=Europe/Riga:20260422T190000
DTEND;TZID=Europe/Riga:20260422T220000
DTSTAMP:20260421T110855
CREATED:20260419T080000Z
LAST-MODIFIED:20260417T082722Z
UID:216-1776884400-1776895200@expatslatvia.com
SUMMARY:Riga Language Exchange Meetup
DESCRIPTION:A weekly meetup for language lovers. Practice a new language\, meet people\, and enjoy a drink – beer\, tea\, or coffee. Everyone is welcome. \n📅 Every week · 19:00 – 22:00 📍 FOB Bar\, Riga \nDuration: 3 hours Open to everyone
URL:https://expatslatvia.com/event/riga-language-exchange-meetup-2/
LOCATION:FOB Bar\, Aldaru iela 9\, Rīga
END:VEVENT
BEGIN:VEVENT
DTSTART;TZID=Europe/Riga:20260422T190000
DTEND;TZID=Europe/Riga:20260425T220000
DTSTAMP:20260421T110855
CREATED:20260416T180058Z
LAST-MODIFIED:20260416T180058Z
UID:212-1776884400-1777154400@expatslatvia.com
SUMMARY:Page Break - International Poetry Festival: Evening Reading
DESCRIPTION:An evening of poetry readings at Kino Splendid Palace\, part of the 5th International Poetry Festival “Page Break.” Seven poets from six countries take the stage\, with translations projected on screen in both English and Latvian. \nPoets: Elvīra Bloma (Latvia) · Nīls Hāvs (Denmark) · Elizabete Duvala (Spain) · Alessandro Mistrorigo (Italy) · Ilmārs Šlāpins (Latvia) · Anna Julian Mendlik (Germany) · Reičela Devoskina (USA) \nThe festival runs April 22–25 in Riga\, bringing together internationally recognised poets and offering a series of free public events. \n\n📅 April 23\, 2026 · Evening 📍 Kino Splendid Palace\, Straumes zāle\, Riga 🎟 Free tickets 🌐 pagebreak.lv \nOrganizer: Page Break Admission: Free
URL:https://expatslatvia.com/event/page-break-international-poetry-festival-evening-reading/
LOCATION:Kino Splendid Palace\, Straumes zāle\, Rīga
END:VEVENT
BEGIN:VEVENT
DTSTART;TZID=Europe/Riga:20260506T090000
DTEND;TZID=Europe/Riga:20260510T160000
DTSTAMP:20260421T110855
CREATED:20260414T161325Z
LAST-MODIFIED:20260420T113123Z
UID:191-1778058000-1778428800@expatslatvia.com
SUMMARY:Scent Art Festival Riga
DESCRIPTION:An international festival at the intersection of scent\, art\, technology\, music\, and performance. \n3 exhibitions · 53 artworks · 63 events — lectures\, workshops\, performances\, and sensory experiences · Artists and researchers from around the world \nProgram: \nMay 6 — Festival Opening Keynote lecture\, future technology demonstration\, scent music by choir\, scented dance\, immersive scent experiences \nMay 7 — Exhibition Day Exhibition openings\, masterclasses\, lectures\, workshops\, performances \nMay 8 — Scent Archives Keynote lecture\, masterclasses\, workshops\, dance and art performances \nMay 9 — Being in the Fog of Uncertainty Keynote lecture\, performances\, music\, dance\, technological demonstrations \nMay 10 — Closing Day Lecture\, performances\, poetry readings\, music\, technological demonstrations \n\n📅 May 6–10\, 2026 📍 Creative Factory Veldze\, Riga Duration: 4 days · Open to everyone \nOrganizers: Smaržu mākslas galerija NĀSĪ\, Radošā rūpnīca Veldze Venue support: Radošā rūpnīca Veldze Technical support: Lares Baltic Tribal Gathering
URL:https://expatslatvia.com/event/scent-art-festival-riga/
LOCATION:Radošā rūpnīca Veldze\, Matīsa iela 8\, Rīga
END:VEVENT
BEGIN:VEVENT
DTSTART;TZID=Europe/Riga:20260506T200000
DTEND;TZID=Europe/Riga:20260506T220000
DTSTAMP:20260421T110855
CREATED:20260417T155637Z
LAST-MODIFIED:20260417T155506Z
UID:202-1778097600-1778104800@expatslatvia.com
SUMMARY:Žubr - Avant-Garde Jazz Quartet
DESCRIPTION:M/House of Jazz presents a concert by the international avant-garde jazz quartet “žubr” — a project bringing together four musicians of improvised and experimental music from Latvia and Poland. \nThe ensemble combines vocals\, piano\, double bass\, and percussion\, performing an original repertoire written specifically for this lineup. Composition meets improvisation through extended instrumental techniques. The project originated in Oslo\, where the musicians developed their shared musical approach. \nLineup: Aga Wójcik (PL) — vocals Bartłomiej Brózda (PL) — double bass Marcin Małek (PL) — piano Andris Žabris (LV) — drums \n\n📅 May 6\, 2026 · 20:00 📍 M/Darbnīca\, Aristida Briāna iela 9\, Riga 🎟 Get tickets \nOrganizer: M/Darbnīca Supported by: State Culture Capital Foundation\, Riga City Council
URL:https://expatslatvia.com/event/zubr-avant-garde-jazz-quartet/
LOCATION:M/Darbnīca\, Aristida Briāna iela 9\, Rīga
END:VEVENT
END:VCALENDAR