BEGIN:VCALENDAR
VERSION:2.0
PRODID:-//Expats Latvia - ECPv6.15.20//NONSGML v1.0//EN
CALSCALE:GREGORIAN
METHOD:PUBLISH
X-WR-CALNAME:Expats Latvia
X-ORIGINAL-URL:https://expatslatvia.com
X-WR-CALDESC:Events for Expats Latvia
REFRESH-INTERVAL;VALUE=DURATION:PT1H
X-Robots-Tag:noindex
X-PUBLISHED-TTL:PT1H
BEGIN:VTIMEZONE
TZID:Europe/Riga
BEGIN:DAYLIGHT
TZOFFSETFROM:+0200
TZOFFSETTO:+0300
TZNAME:EEST
DTSTART:20250330T010000
END:DAYLIGHT
BEGIN:STANDARD
TZOFFSETFROM:+0300
TZOFFSETTO:+0200
TZNAME:EET
DTSTART:20251026T010000
END:STANDARD
BEGIN:DAYLIGHT
TZOFFSETFROM:+0200
TZOFFSETTO:+0300
TZNAME:EEST
DTSTART:20260329T010000
END:DAYLIGHT
BEGIN:STANDARD
TZOFFSETFROM:+0300
TZOFFSETTO:+0200
TZNAME:EET
DTSTART:20261025T010000
END:STANDARD
BEGIN:DAYLIGHT
TZOFFSETFROM:+0200
TZOFFSETTO:+0300
TZNAME:EEST
DTSTART:20270328T010000
END:DAYLIGHT
BEGIN:STANDARD
TZOFFSETFROM:+0300
TZOFFSETTO:+0200
TZNAME:EET
DTSTART:20271031T010000
END:STANDARD
END:VTIMEZONE
BEGIN:VEVENT
DTSTART;TZID=Europe/Riga:20260506T090000
DTEND;TZID=Europe/Riga:20260510T160000
DTSTAMP:20260421T164834
CREATED:20260414T161325Z
LAST-MODIFIED:20260420T113123Z
UID:191-1778058000-1778428800@expatslatvia.com
SUMMARY:Scent Art Festival Riga
DESCRIPTION:An international festival at the intersection of scent\, art\, technology\, music\, and performance. \n3 exhibitions · 53 artworks · 63 events — lectures\, workshops\, performances\, and sensory experiences · Artists and researchers from around the world \nProgram: \nMay 6 — Festival Opening Keynote lecture\, future technology demonstration\, scent music by choir\, scented dance\, immersive scent experiences \nMay 7 — Exhibition Day Exhibition openings\, masterclasses\, lectures\, workshops\, performances \nMay 8 — Scent Archives Keynote lecture\, masterclasses\, workshops\, dance and art performances \nMay 9 — Being in the Fog of Uncertainty Keynote lecture\, performances\, music\, dance\, technological demonstrations \nMay 10 — Closing Day Lecture\, performances\, poetry readings\, music\, technological demonstrations \n\n📅 May 6–10\, 2026 📍 Creative Factory Veldze\, Riga Duration: 4 days · Open to everyone \nOrganizers: Smaržu mākslas galerija NĀSĪ\, Radošā rūpnīca Veldze Venue support: Radošā rūpnīca Veldze Technical support: Lares Baltic Tribal Gathering
URL:https://expatslatvia.com/event/scent-art-festival-riga/
LOCATION:Radošā rūpnīca Veldze\, Matīsa iela 8\, Rīga
END:VEVENT
END:VCALENDAR