BEGIN:VCALENDAR
VERSION:2.0
PRODID:-//Expats Latvia - ECPv6.15.20//NONSGML v1.0//EN
CALSCALE:GREGORIAN
METHOD:PUBLISH
X-WR-CALNAME:Expats Latvia
X-ORIGINAL-URL:https://expatslatvia.com
X-WR-CALDESC:Events for Expats Latvia
REFRESH-INTERVAL;VALUE=DURATION:PT1H
X-Robots-Tag:noindex
X-PUBLISHED-TTL:PT1H
BEGIN:VTIMEZONE
TZID:Europe/Riga
BEGIN:DAYLIGHT
TZOFFSETFROM:+0200
TZOFFSETTO:+0300
TZNAME:EEST
DTSTART:20250330T010000
END:DAYLIGHT
BEGIN:STANDARD
TZOFFSETFROM:+0300
TZOFFSETTO:+0200
TZNAME:EET
DTSTART:20251026T010000
END:STANDARD
BEGIN:DAYLIGHT
TZOFFSETFROM:+0200
TZOFFSETTO:+0300
TZNAME:EEST
DTSTART:20260329T010000
END:DAYLIGHT
BEGIN:STANDARD
TZOFFSETFROM:+0300
TZOFFSETTO:+0200
TZNAME:EET
DTSTART:20261025T010000
END:STANDARD
BEGIN:DAYLIGHT
TZOFFSETFROM:+0200
TZOFFSETTO:+0300
TZNAME:EEST
DTSTART:20270328T010000
END:DAYLIGHT
BEGIN:STANDARD
TZOFFSETFROM:+0300
TZOFFSETTO:+0200
TZNAME:EET
DTSTART:20271031T010000
END:STANDARD
END:VTIMEZONE
BEGIN:VEVENT
DTSTART;TZID=Europe/Riga:20260415T190000
DTEND;TZID=Europe/Riga:20260415T220000
DTSTAMP:20260421T144826
CREATED:20260414T143636Z
LAST-MODIFIED:20260417T082739Z
UID:179-1776279600-1776290400@expatslatvia.com
SUMMARY:Riga Language Exchange Meetup
DESCRIPTION:A weekly meetup for language lovers. Practice a new language\, meet people\, and enjoy a drink – beer\, tea\, or coffee. Everyone is welcome. \n📅 Every week · 19:00 – 22:00 📍 FOB Bar\, Riga \nDuration: 3 hours Open to everyone
URL:https://expatslatvia.com/event/riga-language-exchange-meetup/
LOCATION:FOB Bar\, Aldaru iela 9\, Rīga
END:VEVENT
END:VCALENDAR